BEGIN:VCALENDAR
VERSION:2.0
PRODID:-//GeorgeBrayHockey.ca - ECPv6.14.2//NONSGML v1.0//EN
CALSCALE:GREGORIAN
METHOD:PUBLISH
X-ORIGINAL-URL:https://www.georgebrayhockey.ca
X-WR-CALDESC:Events for GeorgeBrayHockey.ca
REFRESH-INTERVAL;VALUE=DURATION:PT1H
X-Robots-Tag:noindex
X-PUBLISHED-TTL:PT1H
BEGIN:VTIMEZONE
TZID:America/Toronto
BEGIN:DAYLIGHT
TZOFFSETFROM:-0500
TZOFFSETTO:-0400
TZNAME:EDT
DTSTART:20260308T070000
END:DAYLIGHT
BEGIN:STANDARD
TZOFFSETFROM:-0400
TZOFFSETTO:-0500
TZNAME:EST
DTSTART:20261101T060000
END:STANDARD
END:VTIMEZONE
BEGIN:VEVENT
DTSTART;TZID=America/Toronto:20260103T080000
DTEND;TZID=America/Toronto:20260110T170000
DTSTAMP:20260422T050506
CREATED:20260109T045911Z
LAST-MODIFIED:20260109T045911Z
UID:7302-1767427200-1768064400@www.georgebrayhockey.ca
SUMMARY:Skate-a-thon pledges due
DESCRIPTION:January 3rd and January 10th – Skate-a-thon pledges due
URL:https://www.georgebrayhockey.ca/event/skate-a-thon-pledges-due/
END:VEVENT
END:VCALENDAR