BEGIN:VCALENDAR
VERSION:2.0
PRODID:-//GeorgeBrayHockey.ca - ECPv6.14.2//NONSGML v1.0//EN
CALSCALE:GREGORIAN
METHOD:PUBLISH
X-ORIGINAL-URL:https://www.georgebrayhockey.ca
X-WR-CALDESC:Events for GeorgeBrayHockey.ca
REFRESH-INTERVAL;VALUE=DURATION:PT1H
X-Robots-Tag:noindex
X-PUBLISHED-TTL:PT1H
BEGIN:VTIMEZONE
TZID:America/Toronto
BEGIN:DAYLIGHT
TZOFFSETFROM:-0500
TZOFFSETTO:-0400
TZNAME:EDT
DTSTART:20240310T070000
END:DAYLIGHT
BEGIN:STANDARD
TZOFFSETFROM:-0400
TZOFFSETTO:-0500
TZNAME:EST
DTSTART:20241103T060000
END:STANDARD
END:VTIMEZONE
BEGIN:VEVENT
DTSTART;TZID=America/Toronto:20240907T090000
DTEND;TZID=America/Toronto:20240918T200000
DTSTAMP:20260423T020132
CREATED:20240627T111125Z
LAST-MODIFIED:20240627T111613Z
UID:6426-1725699600-1726689600@www.georgebrayhockey.ca
SUMMARY:Registration Dates
DESCRIPTION:Registration for the 2024 – 2025 season will take place on the following dates and times.(Check the full content to see the image) \nAll registration sessions will take place at Kinsmen Arena\, 20 Granville St. London
URL:https://www.georgebrayhockey.ca/event/registration-dates/
ATTACH;FMTTYPE=image/webp:https://www.georgebrayhockey.ca/wp-content/uploads/2024/03/Registration-Dates.webp
END:VEVENT
END:VCALENDAR